BEGIN:VCALENDAR
VERSION:2.0
PRODID:-//Barneveldse Eerstelijns Zorg - ECPv6.15.20//NONSGML v1.0//EN
CALSCALE:GREGORIAN
METHOD:PUBLISH
X-WR-CALNAME:Barneveldse Eerstelijns Zorg
X-ORIGINAL-URL:https://belz.nu
X-WR-CALDESC:Evenementen voor Barneveldse Eerstelijns Zorg
REFRESH-INTERVAL;VALUE=DURATION:PT1H
X-Robots-Tag:noindex
X-PUBLISHED-TTL:PT1H
BEGIN:VTIMEZONE
TZID:Europe/Amsterdam
BEGIN:DAYLIGHT
TZOFFSETFROM:+0100
TZOFFSETTO:+0200
TZNAME:CEST
DTSTART:20230326T010000
END:DAYLIGHT
BEGIN:STANDARD
TZOFFSETFROM:+0200
TZOFFSETTO:+0100
TZNAME:CET
DTSTART:20231029T010000
END:STANDARD
BEGIN:DAYLIGHT
TZOFFSETFROM:+0100
TZOFFSETTO:+0200
TZNAME:CEST
DTSTART:20240331T010000
END:DAYLIGHT
BEGIN:STANDARD
TZOFFSETFROM:+0200
TZOFFSETTO:+0100
TZNAME:CET
DTSTART:20241027T010000
END:STANDARD
BEGIN:DAYLIGHT
TZOFFSETFROM:+0100
TZOFFSETTO:+0200
TZNAME:CEST
DTSTART:20250330T010000
END:DAYLIGHT
BEGIN:STANDARD
TZOFFSETFROM:+0200
TZOFFSETTO:+0100
TZNAME:CET
DTSTART:20251026T010000
END:STANDARD
END:VTIMEZONE
BEGIN:VEVENT
DTSTART;TZID=Europe/Amsterdam:20241114T163000
DTEND;TZID=Europe/Amsterdam:20241114T203000
DTSTAMP:20260420T111559
CREATED:20240703T134531Z
LAST-MODIFIED:20240703T134739Z
UID:1286-1731601800-1731616200@belz.nu
SUMMARY:Kansrijke Start Barneveld - Netwerkbijeenkomst
DESCRIPTION:Als stress bij kinderen chronisch wordt\, dat wil zeggen frequent of langdurig aanhoudt\, noemen wij dit Early Life Stress. \nNiet alleen volwassenen hebben last van stress. Ook voor kinderen is er een toegenomen prestatiedruk en sociale druk. Chronische stress is schadelijk voor de gezondheid. Het is daarom van belang om kennis te hebben over stress en stress sensitief te werken. \nWil je kinderen een kansrijke start geven? Zet dan in op preventie van chronische stress tijdens het opgroeien\, zowel bij het kind als bij de (aanstaande) ouders. \nNaast plenaire gastspreker(s) en interessante en leerzame workshops zal er ook ruimte zijn om te netwerken en te zien en horen waar de coalitie Kansrijke Start in de gemeente Barneveld mee bezig is. \nHeeft u vragen dan kun u die sturen naar: l.keijzer@barneveld.nl
URL:https://belz.nu/agenda/1286/
LOCATION:Gemeentehuis Barneveld\, Raadhuisplein 2\, Barneveld\, Gelderland\, Nederland
END:VEVENT
END:VCALENDAR