BEGIN:VCALENDAR
VERSION:2.0
PRODID:-//Barneveldse Eerstelijns Zorg - ECPv6.15.20//NONSGML v1.0//EN
CALSCALE:GREGORIAN
METHOD:PUBLISH
X-WR-CALNAME:Barneveldse Eerstelijns Zorg
X-ORIGINAL-URL:https://belz.nu
X-WR-CALDESC:Evenementen voor Barneveldse Eerstelijns Zorg
REFRESH-INTERVAL;VALUE=DURATION:PT1H
X-Robots-Tag:noindex
X-PUBLISHED-TTL:PT1H
BEGIN:VTIMEZONE
TZID:Europe/Amsterdam
BEGIN:DAYLIGHT
TZOFFSETFROM:+0100
TZOFFSETTO:+0200
TZNAME:CEST
DTSTART:20230326T010000
END:DAYLIGHT
BEGIN:STANDARD
TZOFFSETFROM:+0200
TZOFFSETTO:+0100
TZNAME:CET
DTSTART:20231029T010000
END:STANDARD
BEGIN:DAYLIGHT
TZOFFSETFROM:+0100
TZOFFSETTO:+0200
TZNAME:CEST
DTSTART:20240331T010000
END:DAYLIGHT
BEGIN:STANDARD
TZOFFSETFROM:+0200
TZOFFSETTO:+0100
TZNAME:CET
DTSTART:20241027T010000
END:STANDARD
BEGIN:DAYLIGHT
TZOFFSETFROM:+0100
TZOFFSETTO:+0200
TZNAME:CEST
DTSTART:20250330T010000
END:DAYLIGHT
BEGIN:STANDARD
TZOFFSETFROM:+0200
TZOFFSETTO:+0100
TZNAME:CET
DTSTART:20251026T010000
END:STANDARD
END:VTIMEZONE
BEGIN:VEVENT
DTSTART;TZID=Europe/Amsterdam:20240227T170000
DTEND;TZID=Europe/Amsterdam:20240227T190000
DTSTAMP:20260422T231413
CREATED:20240119T161029Z
LAST-MODIFIED:20240119T161029Z
UID:929-1709053200-1709060400@belz.nu
SUMMARY:Startbijeenkomst BELZ
DESCRIPTION:Ben je zorgprofessional werkzaam in de eerste lijn in Barneveld. Wees dan welkom op de startbijeenkomst! \n 
URL:https://belz.nu/agenda/startbijeenkomst-belz/
LOCATION:De Veluwehal\, Barneveld\, Nieuwe Markt 6\, Barneveld\, 3771 CB\, Nederland
END:VEVENT
END:VCALENDAR